BEGIN:VCALENDAR
VERSION:2.0
PRODID:-//R.I.S.E. - ECPv6.15.19//NONSGML v1.0//EN
CALSCALE:GREGORIAN
METHOD:PUBLISH
X-WR-CALNAME:R.I.S.E.
X-ORIGINAL-URL:https://risereentry.org
X-WR-CALDESC:Events for R.I.S.E.
REFRESH-INTERVAL;VALUE=DURATION:PT1H
X-Robots-Tag:noindex
X-PUBLISHED-TTL:PT1H
BEGIN:VTIMEZONE
TZID:UTC
BEGIN:STANDARD
TZOFFSETFROM:+0000
TZOFFSETTO:+0000
TZNAME:UTC
DTSTART:20220101T000000
END:STANDARD
END:VTIMEZONE
BEGIN:VEVENT
DTSTART;VALUE=DATE:20230224
DTEND;VALUE=DATE:20230226
DTSTAMP:20260423T105706
CREATED:20230223T231121Z
LAST-MODIFIED:20230223T231121Z
UID:1420-1677196800-1677369599@risereentry.org
SUMMARY:Operation Ten City LA
DESCRIPTION:
URL:https://risereentry.org/event/operation-ten-city-la/
LOCATION:IL
END:VEVENT
BEGIN:VEVENT
DTSTART;VALUE=DATE:20230118
DTEND;VALUE=DATE:20230119
DTSTAMP:20260423T105706
CREATED:20230110T223513Z
LAST-MODIFIED:20230110T223513Z
UID:826-1674000000-1674086399@risereentry.org
SUMMARY:Sample Event 2
DESCRIPTION:
URL:https://risereentry.org/event/sample-event-2/
LOCATION:IL
END:VEVENT
BEGIN:VEVENT
DTSTART;VALUE=DATE:20230115
DTEND;VALUE=DATE:20230116
DTSTAMP:20260423T105706
CREATED:20230110T223442Z
LAST-MODIFIED:20230110T223442Z
UID:824-1673740800-1673827199@risereentry.org
SUMMARY:Sample Event 1
DESCRIPTION:
URL:https://risereentry.org/event/sample-event-1/
LOCATION:IL
END:VEVENT
END:VCALENDAR